BEGIN:VCALENDAR
VERSION:2.0
PRODID:-//Central Coast Law Society - ECPv5.0.0.1//NONSGML v1.0//EN
CALSCALE:GREGORIAN
METHOD:PUBLISH
X-WR-CALNAME:Central Coast Law Society
X-ORIGINAL-URL:https://centralcoastlawsociety.com.au
X-WR-CALDESC:Events for Central Coast Law Society
BEGIN:VTIMEZONE
TZID:Australia/Sydney
BEGIN:STANDARD
TZOFFSETFROM:+1100
TZOFFSETTO:+1000
TZNAME:AEST
DTSTART:20190406T160000
END:STANDARD
BEGIN:DAYLIGHT
TZOFFSETFROM:+1000
TZOFFSETTO:+1100
TZNAME:AEDT
DTSTART:20191005T160000
END:DAYLIGHT
END:VTIMEZONE
BEGIN:VEVENT
DTSTART;TZID=Australia/Sydney:20191213T183000
DTEND;TZID=Australia/Sydney:20191213T230000
DTSTAMP:20200301T000532
CREATED:20191116T033520Z
LAST-MODIFIED:20191116T034024Z
UID:1788-1576261800-1576278000@centralcoastlawsociety.com.au
SUMMARY:Annual Christmas Party
DESCRIPTION:The Central Coast Law Society invites you to the Annual 2019 Christmas Dinner. \nFriday 13 December 2019 – commencing 6.30pm \nVenue: The Box on the Water Restaurant\, The Esplanade (opposite Beach Street) Ettalong \nRSVP by 2 December 2019 to presidentccls@gmail.com \nDownload the Invitation to return with payment details \nCost $100 each for members and their partners / $130 non-members \n
URL:https://centralcoastlawsociety.com.au/eventa/annual-christmas-party/
CATEGORIES:Members Event
END:VEVENT
END:VCALENDAR