BEGIN:VCALENDAR
VERSION:2.0
PRODID:-//Central Coast Law Society - ECPv5.0.0.1//NONSGML v1.0//EN
CALSCALE:GREGORIAN
METHOD:PUBLISH
X-WR-CALNAME:Central Coast Law Society
X-ORIGINAL-URL:https://centralcoastlawsociety.com.au
X-WR-CALDESC:Events for Central Coast Law Society
BEGIN:VTIMEZONE
TZID:Australia/Sydney
BEGIN:STANDARD
TZOFFSETFROM:+1100
TZOFFSETTO:+1000
TZNAME:AEST
DTSTART:20190406T160000
END:STANDARD
BEGIN:DAYLIGHT
TZOFFSETFROM:+1000
TZOFFSETTO:+1100
TZNAME:AEDT
DTSTART:20191005T160000
END:DAYLIGHT
END:VTIMEZONE
BEGIN:VEVENT
DTSTART;TZID=Australia/Sydney:20191205T183000
DTEND;TZID=Australia/Sydney:20191205T230000
DTSTAMP:20200301T000510
CREATED:20191116T032528Z
LAST-MODIFIED:20191116T032623Z
UID:1783-1575570600-1575586800@centralcoastlawsociety.com.au
SUMMARY:Young Lawyers Christmas Party
DESCRIPTION:Dinner at The Grand Pavilion Indian Terrigal 6.30pm \nFollowed by drinks at Mumbo Jumbos \nCost $20 per person incl dinner (BYO drinks) and a bar tab at Mumbo Jumbos \nDownload the invitation for all payment and RSVP details \nAll Lawyers welcome \n  \n  \n  \n
URL:https://centralcoastlawsociety.com.au/eventa/young-lawyers-christmas-party/
CATEGORIES:Members Event,Young Lawyers
END:VEVENT
END:VCALENDAR