BEGIN:VCALENDAR
VERSION:2.0
PRODID:-//Central Coast Law Society - ECPv5.0.0.1//NONSGML v1.0//EN
CALSCALE:GREGORIAN
METHOD:PUBLISH
X-WR-CALNAME:Central Coast Law Society
X-ORIGINAL-URL:https://centralcoastlawsociety.com.au
X-WR-CALDESC:Events for Central Coast Law Society
BEGIN:VTIMEZONE
TZID:Australia/Sydney
BEGIN:STANDARD
TZOFFSETFROM:+1100
TZOFFSETTO:+1000
TZNAME:AEST
DTSTART:20200404T160000
END:STANDARD
BEGIN:DAYLIGHT
TZOFFSETFROM:+1000
TZOFFSETTO:+1100
TZNAME:AEDT
DTSTART:20201003T160000
END:DAYLIGHT
END:VTIMEZONE
BEGIN:VEVENT
DTSTART;TZID=Australia/Sydney:20200227T183000
DTEND;TZID=Australia/Sydney:20200227T213000
DTSTAMP:20200229T234913
CREATED:20200209T012419Z
LAST-MODIFIED:20200209T020511Z
UID:1866-1582828200-1582839000@centralcoastlawsociety.com.au
SUMMARY:Central Coast Young Lawyers - Off the Clock 2020 with Judge Harman
DESCRIPTION:RSVP to our first annual Off The Clock for 2020! \n27 FEBRUARY 2020 from 6.30pm at Bamvino\, Erina Heights \nPlease email rebeccah.ccyl@gmail.com to RSVP. \nTo continue with the tradition of “Off the clock” nights\, we are kickstarting 2020 with exactly that! \nGUEST SPEAKER – Federal Circuit Court Judge Joe Harman \nJudge Harman is an avid supporter of the Young Lawyers\, through the Law Society of New South Wales\, and is passionate about supporting Young Lawyers at a regional level. Judge Harman regularly facilitates and develops events and series for the Young Lawyers in the Sydney and Parramatta area\, all of which are open to regional Young Lawyers also. We are lucky enough to have Judge Harman come to the Central Coast\, giving up his time to share his experience and knowledge with us. \nWhilst Judge Harman is a Judge of the Federal Circuit Court of Australia\, this evening is not Family Law specific. Judge Harman will share his own experiences\, his journey to becoming a Judge\, tips lessons and tricks for our own careers\, and relevant/useful information for all practitioners on the Central Coast. This event is open to all Lawyers on the Central Coast\, as well as Law Students. \nWe look forward to seeing you there! \n  \n
URL:https://centralcoastlawsociety.com.au/eventa/central-coast-young-lawyers-off-the-clock-2020-with-judge-harman/
CATEGORIES:Members Event,Young Lawyers
END:VEVENT
END:VCALENDAR